BEGIN:VCALENDAR
VERSION:2.0
PRODID:-//Tukios.com/
BEGIN:VEVENT
UID:367a3fe4-d759-4a30-b205-02001cdef998@www.schumacher-kish.com
DTSTAMP:20260421T234416Z
DTSTART:20260425T150000Z
DTEND:20260425T160000Z
SUMMARY:Visitation
DESCRIPTION:
URL:https://www.schumacher-kish.com/obituaries/florence-anderson
LOCATION: 423 South 2nd Street  La Crescent MN 55947
GEO:43.8268916;-91.3071923
END:VEVENT
END:VCALENDAR