BEGIN:VCALENDAR
VERSION:2.0
PRODID:-//Tukios.com/
BEGIN:VEVENT
UID:0fd8ced9-9f7d-4ccf-abb1-271b6bb934f0@www.schumacher-kish.com
DTSTAMP:20260421T234515Z
DTSTART:20260425T160000Z
DTEND:20260425T170000Z
SUMMARY:Mass
DESCRIPTION:
URL:https://www.schumacher-kish.com/obituaries/florence-anderson
LOCATION: 423 South 2nd Street  La Crescent MN 55947
GEO:43.8268916;-91.3071923
END:VEVENT
END:VCALENDAR