BEGIN:VCALENDAR
VERSION:2.0
PRODID:-//Tukios.com/
BEGIN:VEVENT
UID:761abc58-1917-4077-9c15-b9d33e62693f@www.schumacher-kish.com
DTSTAMP:20260423T173236Z
DTSTART:20260425T160000Z
DTEND:20260425T170000Z
SUMMARY:Memorial Service
DESCRIPTION:
URL:https://www.schumacher-kish.com/obituaries/james-furr
LOCATION: 200 West Avenue South  La Crosse WI 54601
GEO:43.8095883;-91.2395286
END:VEVENT
END:VCALENDAR