BEGIN:VCALENDAR
VERSION:2.0
PRODID:-//Tukios.com/
BEGIN:VEVENT
UID:a9a586c4-00e0-45b7-8cc3-2d116d1a2de6@www.schumacher-kish.com
DTSTAMP:20260425T011534Z
DTSTART:20260507T160000Z
DTEND:20260507T170000Z
SUMMARY:Prayer Service
DESCRIPTION:
URL:https://www.schumacher-kish.com/obituaries/julie-scholz
LOCATION: 200 West Ave S  La Crosse WI 54601
GEO:43.8095883;-91.2395286
END:VEVENT
END:VCALENDAR