BEGIN:VCALENDAR
VERSION:2.0
PRODID:-//Tukios.com/
BEGIN:VEVENT
UID:4326e956-15d1-46d3-b937-aace2e3de375@www.schumacher-kish.com
DTSTAMP:20260425T011737Z
DTSTART:20260507T150000Z
DTEND:20260507T160000Z
SUMMARY:Visitation
DESCRIPTION:
URL:https://www.schumacher-kish.com/obituaries/julie-scholz
LOCATION: 200 West Ave S  La Crosse WI 54601
GEO:43.8095883;-91.2395286
END:VEVENT
END:VCALENDAR