BEGIN:VCALENDAR
VERSION:2.0
PRODID:-//Tukios.com/
BEGIN:VEVENT
UID:2c86b65e-b9a2-41c0-ace2-4206021d6201@www.schumacher-kish.com
DTSTAMP:20260423T223546Z
DTSTART:20260511T220000Z
DTEND:20260511T230000Z
SUMMARY:Visitation
DESCRIPTION:
URL:https://www.schumacher-kish.com/obituaries/lowell-peterson
LOCATION: 21 North Hill Street  La Crescent MN 55947
GEO:43.8296392;-91.3130906
END:VEVENT
END:VCALENDAR