BEGIN:VCALENDAR
VERSION:2.0
PRODID:-//Tukios.com/
BEGIN:VEVENT
UID:a51d072d-d397-4cea-9874-07548519dec0@www.schumacher-kish.com
DTSTAMP:20260420T174108Z
DTSTART:20260509T150000Z
DTEND:20260509T163000Z
SUMMARY:Visitation
DESCRIPTION:
URL:https://www.schumacher-kish.com/obituaries/philip-berg
LOCATION: 21 North Hill Street  La Crescent MN 55947
GEO:43.8296392;-91.3130906
END:VEVENT
END:VCALENDAR