BEGIN:VCALENDAR
VERSION:2.0
PRODID:-//Tukios.com/
BEGIN:VEVENT
UID:19d43de1-6fe5-460f-9ebb-8d8c4bffe5b6@www.schumacher-kish.com
DTSTAMP:20260420T174618Z
DTSTART:20260509T163000Z
DTEND:20260509T173000Z
SUMMARY:Funeral Service
DESCRIPTION:
URL:https://www.schumacher-kish.com/obituaries/philip-berg
LOCATION: 21 North Hill Street  La Crescent MN 55947
GEO:43.8296392;-91.3130906
END:VEVENT
END:VCALENDAR