BEGIN:VCALENDAR
VERSION:2.0
PRODID:-//Tukios.com/
BEGIN:VEVENT
UID:9ded83a2-5d43-442c-b160-6f45e6b18d72@www.schumacher-kish.com
DTSTAMP:20260420T173929Z
DTSTART:20260509T173000Z
DTEND:20260509T183000Z
SUMMARY:Graveside Service
DESCRIPTION:
URL:https://www.schumacher-kish.com/obituaries/philip-berg
LOCATION:Prince of Peace Cemetery County Road 6  La Crescent MN 55947
GEO:43.8229183;-91.3208565
END:VEVENT
END:VCALENDAR