BEGIN:VCALENDAR
VERSION:2.0
PRODID:-//Tukios.com/
BEGIN:VEVENT
UID:ed1e62c5-7674-47e5-be68-999e6f69d3e6@www.schumacher-kish.com
DTSTAMP:20260420T174403Z
DTSTART:20260509
SUMMARY:Luncheon
DESCRIPTION:Lunch will be served following burial at Prince of Peace 
	cemetery.
URL:https://www.schumacher-kish.com/obituaries/philip-berg
LOCATION: 21 North Hill Street  La Crescent MN 55947
GEO:43.8296392;-91.3130906
END:VEVENT
END:VCALENDAR