BEGIN:VCALENDAR
VERSION:2.0
PRODID:-//Tukios.com/
BEGIN:VEVENT
UID:6cdea216-5d1e-47b1-acb2-4dadcd3e40e7@www.schumacher-kish.com
DTSTAMP:20260423T011002Z
DTSTART:20260426T180000Z
DTEND:20260426T190000Z
SUMMARY:Funeral Service
DESCRIPTION:
URL:https://www.schumacher-kish.com/obituaries/roseann-kolden
LOCATION:Trinity United Church of Christ W4888 Harvest Lane  La Crosse WI 
	54601
GEO:43.7662959;-91.148766
END:VEVENT
END:VCALENDAR